BEGIN:VCALENDAR
PRODID:NingEventWidget-v1
VERSION:2.0
METHOD:PUBLISH
BEGIN:VEVENT
UID:5167423:Event:173993
DTSTAMP:20260424T014543Z
SUMMARY:The Incredible Vanderbilt Cup Races and Their Impact On Long L
 island
DESCRIPTION:Part of the Traveling Through History, Trains, Planes & Au
 tomobiles. A dessert and discussion series. \nPlease call to registe
 r call: (631) 288-3335 ext.4 or online at: www.westhamptonlibrary.net
 \n\nFor more information visit https://northeastwheelsevents.com/event
 s/the-incredible-vanderbilt-cup-races-and-their-impact-on-long
DTSTART:20180311T173000Z
DTEND:20180311T193000Z
CATEGORIES:lecture
LOCATION:Westhampton Free Library
WEBSITE:http://www.whbhistorical.org
URL:http://www.whbhistorical.org
CONTACT:631 288-3335 ext 4
ORGANIZER:Westhampton Beach Historical Society and Westhampton Free Li
 brary
ATTACH;FMTTYPE="image/jpeg":http://storage.ning.com/topology/rest/1.0/
 file/get/2284101292?profile=original
ATTENDEE;ROLE=REQ-PARTICIPANT;PARTSTAT=ACCEPTED;RSVP=TRUE;CN="Car Show
 s Little Helper":https://northeastwheelsevents.com/profile/CarShowsLit
 tleHelper
END:VEVENT
END:VCALENDAR
