BEGIN:VCALENDAR
PRODID:NingEventWidget-v1
VERSION:2.0
METHOD:PUBLISH
BEGIN:VEVENT
UID:5167423:Event:23423
DTSTAMP:20260422T223458Z
SUMMARY:The Jackson Heights Car, Truck & Motorcycle Show
DESCRIPTION:The Jackson Heights Car, Truck & Motorcycle Show Sunday J
 une 23rd, 9 Am to 4 PM. 69th St between 32nd Ave & Northern Blvd Jack
 son Heights, NY 11377Hosted by East Coast Car Association Toys for Tot
 s, Sponsored by Koeppel Nissan.Live band, Children Face Painting, FDNY
  Fire and Safety Unit, Trophies for 3 classes, Cars Trucks and Motorcy
 cles. All Donations go to St Mary's Healthcare System for Children in
  bayside QueensCars and Trucks $20.00 Motorcycles $10.00Raffles, 50/50
 , Dash Plaques, TrophiesGood Family FunFor information call Lou at 91
 7-682-5362Local community participation always welcomesAll proceeds go
  to St Mary's Healthcare System for childrenEast Coast Car Association
  Toys for ToysToy Run November 17th 2013\n\nFor more information visit
  https://northeastwheelsevents.com/events/the-jackson-heights-car-truc
 k-motorcycle-show
DTSTART:20130623T130000Z
DTEND:20130623T200000Z
CATEGORIES:car, truck, "&", motorcycle, show
LOCATION:Jackson Heights Queens NY
WEBSITE:http://www.eccatoysfortots.org
URL:http://www.eccatoysfortots.org
CONTACT:917-682-5362
ORGANIZER;CN="East Coast Car Assicoation Inc":https://northeastwheelse
 vents.com/profile/EastCoastCarAssicoationInc
ATTACH;FMTTYPE="image/jpeg":http://storage.ning.com/topology/rest/1.0/
 file/get/2284051884?profile=original
ATTENDEE;ROLE=REQ-PARTICIPANT;PARTSTAT=ACCEPTED;RSVP=TRUE;CN="East Coa
 st Car Assicoation Inc":https://northeastwheelsevents.com/profile/East
 CoastCarAssicoationInc
END:VEVENT
END:VCALENDAR
