BEGIN:VCALENDAR
PRODID:NingEventWidget-v1
VERSION:2.0
METHOD:PUBLISH
BEGIN:VEVENT
UID:5167423:Event:339638
DTSTAMP:20260425T191648Z
SUMMARY:The Krooked Ski Club Vintage Snowmobile Show and Swap Meet
DESCRIPTION:The Krooked Ski Club Vintage Snowmobile Show and Swap Meet
  (Formerly the Don Cummings Memorial Vintage Snowmobile Show). -Saturd
 ay September 27th @ The Charcoal Corral 7037 Chapman Ave. Perry, NY 14
 530. -Featured sled this year will be Yamaha. -Over 20 classes. 1st pl
 ace trophies, 2nd place plaques. -Registration starts @ 8am. $5 per sl
 ed, $20 for 4 or more. -Vendors $10 per space, dealers $25 per space. 
 -Breakfast and lunch provided by The Charcoal Corral Restaurant. -Mark
  your calendars!  Contact Jared at Jcskidoo59@aol.com \r\n\r\n\r\n\r
 \nCall Tim Rosenberg @ 585-297-5775 or Dan Nowak @ -322-4158536.\r\n\r
 \n\r\n\n\nFor more information visit https://northeastwheelsevents.com
 /events/the-krooked-ski-club-vintage-snowmobile-show-and-swap-meet-1
DTSTART:20250927T120000Z
DTEND:20250927T230000Z
CATEGORIES:snowmobileshow, swapmeet
LOCATION:The Charcoal Corral Restaurant
WEBSITE:https://vintagesleds.com/events/
URL:https://vintagesleds.com/events/
CONTACT:322-415-8536.
ORGANIZER:The Krooked Ski Club
ATTACH;FMTTYPE="image/jpeg":https://storage.ning.com/topology/rest/1.0
 /file/get/12699882478?profile=original
ATTENDEE;ROLE=REQ-PARTICIPANT;PARTSTAT=ACCEPTED;RSVP=TRUE;CN="William 
 Bruce":https://northeastwheelsevents.com/profile/WilliamBruce
END:VEVENT
END:VCALENDAR
