BEGIN:VCALENDAR
PRODID:NingEventWidget-v1
VERSION:2.0
METHOD:PUBLISH
BEGIN:VEVENT
UID:5167423:Event:335371
DTSTAMP:20260422T195518Z
SUMMARY:The LAB: 2024 Season Closer Car Show & Competition
DESCRIPTION:Join us for our 2024 Season Closer Car Show and Competitio
 n!  We’re wrapping up an incredible season with an event you won’t
  want to miss. Expect multiple raffles, an array of stunning show cars
 , merchandise, a variety of food trucks, and overall just a great time
 !  This is a PAID & TICKETED event to ensure a safe and enjoyable expe
 rience for all attendees. Spectator tickets provide full access to the
  show, where you can watch as our judges present trophies to the Best 
 Vehicle in each category and the coveted Best in Show! Competitors wil
 l have the chance to showcase their vehicles and compete for trophies 
 and exclusive LAB perks.  For further information on ticket types plea
 se visit our event page on our website linked below.\r\nhttps://thelab
 ct.com/pages/closer/  🚨 NO TICKET, NO ENTRY. NO EXCEPTIONS!!\n\nFor
  more information visit https://northeastwheelsevents.com/events/the-l
 ab-2024-season-closer-car-show-competition
DTSTART:20241017T220000Z
DTEND:20241017T230000Z
CATEGORIES:carshow
LOCATION:The LAB: Legends Auto Boutique
WEBSITE:https://allevents.in/north%20branford/the-lab-2024-season-clos
 er-car-show-and-competition/200027279622059
URL:https://allevents.in/north%20branford/the-lab-2024-season-closer-c
 ar-show-and-competition/200027279622059
CONTACT:475-254-8315
ORGANIZER:LAB CT
ATTACH;FMTTYPE="image/jpeg":https://storage.ning.com/topology/rest/1.0
 /file/get/13029442501?profile=original
ATTENDEE;ROLE=REQ-PARTICIPANT;PARTSTAT=ACCEPTED;RSVP=TRUE;CN="William 
 Bruce":https://northeastwheelsevents.com/profile/WilliamBruce
END:VEVENT
END:VCALENDAR
