BEGIN:VCALENDAR
PRODID:NingEventWidget-v1
VERSION:2.0
METHOD:PUBLISH
BEGIN:VEVENT
UID:5167423:Event:143396
DTSTAMP:20260420T133343Z
SUMMARY:The Lantern Fest
DESCRIPTION:At The Lantern Fest, thousands of revelers join together a
 rmed with lanterns for one unforgettable spectacle. Before sundown fri
 ends and families can enjoy food, live music, a stage show, familiar p
 rincesses, face painters, s’mores, balloon artists and more. Then, w
 hen the time is just right, we will light the sky with our highest hop
 es and fondest dreams.\n\nFor more information visit https://northeast
 wheelsevents.com/events/the-lantern-fest
DTSTART:20170610T200000Z
DTEND:20170611T020000Z
CATEGORIES:race
LOCATION:Maple Grove Raceway
WEBSITE:http://www.maplegroveraceway.com/
URL:http://www.maplegroveraceway.com/
CONTACT:(610) 856-9200
ORGANIZER:
ATTACH;FMTTYPE="image/jpeg":http://storage.ning.com/topology/rest/1.0/
 file/get/2284094857?profile=original
ATTENDEE;ROLE=REQ-PARTICIPANT;PARTSTAT=ACCEPTED;RSVP=TRUE;CN="Christop
 her Gosney":https://northeastwheelsevents.com/profile/ChristopherGosne
 y
END:VEVENT
END:VCALENDAR
