BEGIN:VCALENDAR
PRODID:NingEventWidget-v1
VERSION:2.0
METHOD:PUBLISH
BEGIN:VEVENT
UID:5167423:Event:158890
DTSTAMP:20260422T215057Z
SUMMARY:The Legends of Lime Rock at The Simeone Museum
DESCRIPTION:2017 is Lime Rock Park’s 60th anniversary. In conjunct
 ion with the Lime Rock Historic Festival 35, The Simeone Museum is c
 elebrating and recognizing the legacy and the Legends of Lime Rock. Jo
 in The Simeone Foundation Automotive Museum on Saturday, August 26, 
 2017, for a special Labor Day weekend event. Geared to the driver, whe
 ther they be professional, amateur or armchair “Legends of Lime Rock
 ” will honor this landmark anniversary.\nA NIGHT TO REMEMBER\nYour e
 vening will begin with a thrilling private outdoor driving demonstrati
 on of historic autos that were amongst the first to grace Lime Rock in
  1957. Immediately following the demonstration, the event will adjourn
  inside the Simeone Museum during which guests will have the opportuni
 ty to enjoy cocktails and a delicious buffet before taking part in a r
 oundtable discussion. Dr. Fred Simeone will moderate an all-star panel
  including Lime Rock great Skip Barber. \n\nFor more information visi
 t https://northeastwheelsevents.com/events/the-legends-of-lime-rock-at
 -the-simeone-museum
DTSTART:20170826T220000Z
DTEND:20170827T020000Z
CATEGORIES:party
LOCATION:The Simeone Museum
WEBSITE:https://www.eventbrite.com/e/legends-of-lime-rock-tickets-3576
 8276879
URL:https://www.eventbrite.com/e/legends-of-lime-rock-tickets-35768276
 879
CONTACT:215-365-7233
ORGANIZER;CN="The Simeone Museum":https://northeastwheelsevents.com/pr
 ofile/TheSimeoneMuseum
ATTACH;FMTTYPE="image/jpeg":http://storage.ning.com/topology/rest/1.0/
 file/get/2284099695?profile=original
ATTENDEE;ROLE=REQ-PARTICIPANT;PARTSTAT=ACCEPTED;RSVP=TRUE;CN="The Sime
 one Museum":https://northeastwheelsevents.com/profile/TheSimeoneMuseum
END:VEVENT
END:VCALENDAR
