BEGIN:VCALENDAR
PRODID:NingEventWidget-v1
VERSION:2.0
METHOD:PUBLISH
BEGIN:VEVENT
UID:5167423:Event:21167
DTSTAMP:20260424T220501Z
SUMMARY:The Museum of Bus Transportation Spring Fling
DESCRIPTION:Featuring some of the museum's recently acquired vehicle
 s including:Beaver City bus and Fixible VL-100. View modes of bus tran
 sportation: Intercity, transit, school bus, motorcoach conversions. Bu
 s stuff to purchase! Inside 20 tables of bus and transportation articl
 es for purchase.\nA shuttle bus will run every hour between the museum
  and MBT's storage annex to view the MBT fleet. Donations will be acce
 pted for the shuttle to offset costs. Shuttle bus offered by Wolf's Bu
 s Lines. Special food court will be open in the museum.\n\nFor more in
 formation visit https://northeastwheelsevents.com/events/the-museum-of
 -bus-transportation-spring-fling
DTSTART:20130601T123000Z
DTEND:20130601T203000Z
CATEGORIES:bus, show, and, flea, market
LOCATION:Hershey PA
WEBSITE:http://www.busmuseum.org/
URL:http://www.busmuseum.org/
CONTACT:(717) 566-7100 ext. 119
ORGANIZER:the Museum of Bus Transportation
ATTACH;FMTTYPE="image/jpeg":http://storage.ning.com/topology/rest/1.0/
 file/get/2284050399?profile=original
ATTENDEE;ROLE=REQ-PARTICIPANT;PARTSTAT=ACCEPTED;RSVP=TRUE;CN="Pamela H
 irschhorn":https://northeastwheelsevents.com/profile/PamelaHirschhorn
END:VEVENT
END:VCALENDAR
