BEGIN:VCALENDAR
PRODID:NingEventWidget-v1
VERSION:2.0
METHOD:PUBLISH
BEGIN:VEVENT
UID:5167423:Event:1084
DTSTAMP:20260424T040035Z
SUMMARY:The Mystique of  the 9th AnnualYork  York, PA
DESCRIPTION:Call it what you will, but the name \"York\" still has a r
 ing in motorsports circles of having THE drag strip and referred to in
  many connotations as \"US 30\" or \"York US 30\" \"York\" or just \"t
 he dragstrip\" even today 31 years after closing and each year the fra
 ternity meets at the York Expo Center, York Fairgrounds the second ful
 l weekend of July as the drag racing finery pays respects to the great
 est names in drag racing with displays of legendary race cars and a pe
 rsonal visit of the Legends of Drag Racing themselves. The former staf
 f and management gather to pay homage to what was once the greatest of
  'em all, York US 30 Dragway.\n\n:\nShow Information:\nDarwin Doll - 7
 17-757-2720\n\nRace Information:\nBob McCardle - 717-248-7676\n\nFor m
 ore information visit https://northeastwheelsevents.com/events/the-mys
 tique-of-the-9th
DTSTART:20100709T040000Z
DTEND:20100711T035900Z
CATEGORIES:dragway, racing, and, show, cars
LOCATION:York Expo Center
WEBSITE:http://www.yorknostalgia.com
URL:http://www.yorknostalgia.com
CONTACT:717-757-2720   717-248-7676
ORGANIZER:Darwin Doll - Bob McCardle
ATTACH;FMTTYPE="image/jpeg":http://storage.ning.com/topology/rest/1.0/
 file/get/2284047089?profile=original
ATTENDEE;ROLE=REQ-PARTICIPANT;PARTSTAT=ACCEPTED;RSVP=TRUE;CN="Richard 
 Scott":https://northeastwheelsevents.com/profile/RichardScott
END:VEVENT
END:VCALENDAR
