BEGIN:VCALENDAR
PRODID:NingEventWidget-v1
VERSION:2.0
METHOD:PUBLISH
BEGIN:VEVENT
UID:5167423:Event:136558
DTSTAMP:20260423T083637Z
SUMMARY:The New York International Auto Show
DESCRIPTION:Ushering in the latest automotive trends, the 2017 New Yor
 k International Auto Show will showcase an incredible collection of cu
 tting-edge design and extraordinary innovation. More than four floors 
 of displays from the world’s automakers will feature the newest vehi
 cles and latest futuristic concept cars.  Nearly 1,000 cars and truck
 s will be on display at North America’s first and largest-attended a
 uto show dating back to 1900.\n\nFor more information visit https://no
 rtheastwheelsevents.com/events/the-new-york-international-auto-show
DTSTART:20170414T140000Z
DTEND:20170423T230000Z
CATEGORIES:auto, show
LOCATION:Jacob K. Javits Convention Center, New York NY
WEBSITE:http://www.autoshowny.com/
URL:http://www.autoshowny.com/
CONTACT:
ORGANIZER:Greater New York Automobile Dealers Association
ATTACH;FMTTYPE="image/jpeg":http://storage.ning.com/topology/rest/1.0/
 file/get/2284090970?profile=original
ATTENDEE;ROLE=REQ-PARTICIPANT;PARTSTAT=ACCEPTED;RSVP=TRUE;CN="Pamela H
 irschhorn":https://northeastwheelsevents.com/profile/PamelaHirschhorn
END:VEVENT
END:VCALENDAR
