BEGIN:VCALENDAR
PRODID:NingEventWidget-v1
VERSION:2.0
METHOD:PUBLISH
BEGIN:VEVENT
UID:5167423:Event:67681
DTSTAMP:20260421T211413Z
SUMMARY:The Newbie Dash
DESCRIPTION:This will be a great way for newcomers and novice teams to
  learn a little more about the basics of road rallying with the Philly
  Region and rally in general.  We’ll work our way from the Yardley,
  PA area north towards Upper Bucks County.  We’ll offer two sets of
  specific instructions with varying difficulty.  Novice teams will st
 art the rally with a set of instructions with both the normal rally in
 structions and a guide to each instruction.  At the halfway point the
 y can choose to continue with the guided instructions or step up to th
 e normal instructions.  Experienced teams are also welcomed to come o
 ut and sharpen their skills.  The roads on this rally are all paved w
 ith the exception of about a half a mile of smooth dirt.\n\nRegistrati
 on at the event opens at 10:00 AM, driver's meeting is at 10:45AM, and
  1st car is off at 11:01AM.  This rally will take a little over 3 hou
 rs to complete and will end up in the vicinity of Ottsville, PA. \n\n
 For more information visit https://northeastwheelsevents.com/events/th
 e-newbie-dash
DTSTART:20150425T140000Z
DTEND:20150425T180000Z
CATEGORIES:road, rally
LOCATION:Bucks County, PA
WEBSITE:http://www.phillyscca.com/road-rally/the-2015-backroad-series/
URL:http://www.phillyscca.com/road-rally/the-2015-backroad-series/
CONTACT:
ORGANIZER;CN="Jonathan Love":https://northeastwheelsevents.com/profile
 /JonathanLove
ATTACH;FMTTYPE="image/jpeg":http://storage.ning.com/topology/rest/1.0/
 file/get/2284070752?profile=original
ATTENDEE;ROLE=REQ-PARTICIPANT;PARTSTAT=ACCEPTED;RSVP=TRUE;CN="Jonathan
  Love":https://northeastwheelsevents.com/profile/JonathanLove
END:VEVENT
END:VCALENDAR
