BEGIN:VCALENDAR
PRODID:NingEventWidget-v1
VERSION:2.0
METHOD:PUBLISH
BEGIN:VEVENT
UID:5167423:Event:17299
DTSTAMP:20260422T021651Z
SUMMARY:The North American International Auto Show 2013
DESCRIPTION:Experience the next generation of transportation at the N
 orth American International Auto Show 2013. See more than 500 vehicle
 s on display, representing the most innovative designs in the world an
 d experience North America's largest and most prestigious automotive s
 howcase.\n\nFor more information visit https://northeastwheelsevents.c
 om/events/the-north-american-international-auto-show-2013
DTSTART:20130119T140000Z
DTEND:20130128T000000Z
CATEGORIES:auto, show
LOCATION:Cobo CenterDetroit MI
WEBSITE:http://www.naias.com/the-2013-show/public-show.aspx
URL:http://www.naias.com/the-2013-show/public-show.aspx
CONTACT:Ticket Office 248 283-5172
ORGANIZER:NAIAS
ATTACH;FMTTYPE="image/jpeg":http://storage.ning.com/topology/rest/1.0/
 file/get/2284052944?profile=original
ATTENDEE;ROLE=REQ-PARTICIPANT;PARTSTAT=ACCEPTED;RSVP=TRUE;CN="Pamela H
 irschhorn":https://northeastwheelsevents.com/profile/PamelaHirschhorn
END:VEVENT
END:VCALENDAR
