BEGIN:VCALENDAR
PRODID:NingEventWidget-v1
VERSION:2.0
METHOD:PUBLISH
BEGIN:VEVENT
UID:5167423:Event:186193
DTSTAMP:20260422T161249Z
SUMMARY:The Palmerton Car Show
DESCRIPTION:The Palmerton Car Show (FLIER)\n10am-3pm\nSATURDAY June 16
 , 2018\nRain or Shine\nPalmerton, PA - Borough Park\nHosted By: The Pa
 ce-Makers Association\nProceeds Benefit Area Recreation         
  Dash Plaques to the first 100 Cars!!! Awards will be presented in th
 e following categories:\n\nBest Convertible\nBoy's Choice...Ages 13 to
  16 \nGirl's Choice...Ages 13 to 16\nBest Paint Job\nBest Pickup Truc
 k\nBest Graphics\nBest Street Rod \nBorough Council Choice (Chosen by
  a member of the local Borough Council)\nMayors Choice (Chose by the M
 ayor of Palmerton)\nBest Grocery Getter\nHighest 4x4Truck (Ground to h
 ighest part of cab).\nBest Motorcycle\nBest Rat Rod\nFurthest Driven\n
 Best Getaway Car\nBest Engine\nBest Interior\nBest Tuner Car (Foreign 
 or Domestic)\nBest “Under Construction”\nBest Pro Street\nBest Mus
 cle Car\nBest Corvette\nBest Late Model (2000 and Up)\nPace-Makers Ass
 ociation Award for the Most Vehicles by One Club (Monetary Award)\nOld
 est Vehicle\n\n\nFurther Information: \n\nRegistration will be 10am-1
 2pm at the Palmerton Borough Park.\nRegistration Fee will be $00\nAwar
 ds will be announced at 2:30pm.\nThis is a FUN SHOW!!! All judges will
  be members of the community and will have little or no experience jud
 ging vehicles.\n\n \nAll Proceeds Benefit Local Youth Recreational an
 d Sports Organizations.\n\nFor more information visit https://northeas
 twheelsevents.com/events/the-palmerton-car-show
DTSTART:20180616T140000Z
DTEND:20180616T190000Z
CATEGORIES:show
LOCATION:Palmerton Borough Park.
WEBSITE:https://www.google.com/maps/place/Palmerton+Park/@40.8063038,-
 75.6158173,16z/data=!4m8!1m2!2m1!1sPalmerton+Bourough+park!3m4!1s0x89c
 44e9a87040927:0xab013b47802862ad!8m2!3d40.8032682!4d-75.6095334
URL:https://www.google.com/maps/place/Palmerton+Park/@40.8063038,-75.6
 158173,16z/data=!4m8!1m2!2m1!1sPalmerton+Bourough+park!3m4!1s0x89c44e9
 a87040927:0xab013b47802862ad!8m2!3d40.8032682!4d-75.6095334
CONTACT:
ORGANIZER:The Palmerton Pace-Makers
ATTACH;FMTTYPE="image/jpeg":http://storage.ning.com/topology/rest/1.0/
 file/get/2284109236?profile=original
ATTENDEE;ROLE=REQ-PARTICIPANT;PARTSTAT=ACCEPTED;RSVP=TRUE;CN="Andrew C
 ordell":https://northeastwheelsevents.com/profile/AndrewCordell
END:VEVENT
END:VCALENDAR
