BEGIN:VCALENDAR
PRODID:NingEventWidget-v1
VERSION:2.0
METHOD:PUBLISH
BEGIN:VEVENT
UID:5167423:Event:62009
DTSTAMP:20260423T172004Z
SUMMARY:The Philly SCCA Food Drive - Charity Road Rally
DESCRIPTION:This charity road rally will take you through scenic Bucks
  and Northampton Counties just in time to put you in the spirit of gi
 ving.  Just as we did in 2012, your entry fee will be 5 donatable foo
 d items but this time they will be for the Bucks County Housing Group
 .\n\nThe items that are always in need include:\nFRUIT ~ TUNA ~ SPAGHE
 TTI SAUCE ~ SUGAR ~ GRAVY ~ CHUNKY SOUPS ~RICE ~COFFEE ~ MICROWAVE MEA
 LS ~ POWDERED MILK ~ CEREAL ~ SALAD DRESSING\nKid Friendly Foods: SPAG
 HETTIOS ~ FRUIT CUPS ~ APPLESAUCE ~ PEANUT BUTTER ~ RAVIOLIS ~GRAPE JE
 LLY ~FRUIT ROLL -UPS ~ BABY FOOD\n \nExceeding the 5 item registrati
 on minimum will benefit your score!\nThis will be a GTA style rally an
 d time will be a factor in this year's event.  This rally is a bit s
 horter than most of our events but it will be run in the dark.  Pleas
 e make sure you've got road flares and safetly triangles in your car (
 all of you should anyway) just in case!\nRegistration will open at 4:4
 5 PM and the first car will be off at approx. 5:45 PM.  We'll be wr
 apping things up in the Quakertown area for dinner and awards at one o
 f our favorite haunts, the Spinnertown Hotel.  The first cars should
  get to the end point around 8PM, give or take a half hours.  We wil
 l offer novice and experienced classes as usual.  If you've done more
  than 2 Philly SCCA region rallies in the last 3 years you should cons
 ider the experienced class.\nPlease note that this rally will contain 
 some unpaved surfaces (1 road for about 1/4 of a mile and it's smooth 
 dirt/gravel).  The entire route was pre-run using a Scion FR-S at a g
 ood speed in the dark and there were no issues with ground clearance 
 or road damage.  You may want to leave your Pagani Zonda at home for 
 this event but those of you in lowered vehicles should be fine.\n\nFor
  more information visit https://northeastwheelsevents.com/events/the-p
 hilly-scca-food-drive-charity-road-rally
DTSTART:20141206T214500Z
DTEND:20141207T023000Z
CATEGORIES:charity, road, rally
LOCATION:Rally Start: Trainer's Square Shopping Center
WEBSITE:http://www.motorsportreg.com/events/2014-food-drive-charity-ra
 lly-trainers-corner-shopping-center-scca-philadelphia-526399?utm_sourc
 e=apis&utm_medium=apim&utm_campaign=apic&utm_content=xml#.VHtOwzHF_To
URL:http://www.motorsportreg.com/events/2014-food-drive-charity-rally-
 trainers-corner-shopping-center-scca-philadelphia-526399?utm_source=ap
 is&utm_medium=apim&utm_campaign=apic&utm_content=xml#.VHtOwzHF_To
CONTACT:
ORGANIZER;CN="Jonathan Love":https://northeastwheelsevents.com/profile
 /JonathanLove
ATTACH;FMTTYPE="image/jpeg":
ATTENDEE;ROLE=REQ-PARTICIPANT;PARTSTAT=ACCEPTED;RSVP=TRUE;CN="Jonathan
  Love":https://northeastwheelsevents.com/profile/JonathanLove
END:VEVENT
END:VCALENDAR
