BEGIN:VCALENDAR
PRODID:NingEventWidget-v1
VERSION:2.0
METHOD:PUBLISH
BEGIN:VEVENT
UID:5167423:Event:281540
DTSTAMP:20260419T170203Z
SUMMARY:The Pitt Maneuver 2021 24 Hours Of Lemons road race ENTRY DEAD
 LINE Pittsburgh Int. Race Complex
DESCRIPTION:ENTRY DEADLINE: APRIL 03, 2021\n\nIMPORTANT: DUE TO COVID,
  SPECTATORS ARE NOT ALLOWED AT THIS RACE. ONLY PRE-REGISTERED DRIVER
 S & CREW CAN ATTEND--FOR MORE ON COVID CHANGES, GO HERE: https://24ho
 ursoflemons.com/covid/  REGISTRATION During Covid, walk-up spectators,
  late registration, and late substitutions are not permitted. Everyon
 e through the gate--drivers, crew, family, friends, kids, whatever--m
 ust be pre-registered as drivers or crew before the online reg databa
 se closes (12 days before the race). Pre-registered crew members are $
 75; we realize that's steep for kids, but this helps us limit bodies o
 nsite to essential team members and streamline the check-in process. W
 e hope to be back to normal soon!\nSCHEDULE Pre-Race All drivers must 
 watch the Online Drivers Meeting (the link will be posted here) All r
 ookies must watch the Virtual Rookie Meeting. \nThursday, 15 April 2
 021 6pm-10pm: Gates open for early arrival\nFriday, 16 April 2021 TBA:
  Gates open TBA: Optional track testing Noon-5pm: BS & Tech at the tra
 ck. Teams are assigned specific tech times. You'll get yours by email 
 before the race. That's your time: No changes.  Noon-5pm: Gear tech  
 Saturday, 17 April 2021 7am: Gates open 9:30am: Grid time--show up soo
 n! 10am-5:30pm: Race Session I\nSunday, 18 April 2021 9am-4:30pm: Race
  Session II TBA: Gates close\n\nFor more information visit https://nor
 theastwheelsevents.com/events/the-pitt-maneuver-2021-24-hours-of-lemon
 s-road-race-entry
DTSTART:20210403T040000Z
DTEND:20210404T035900Z
CATEGORIES:road, race
LOCATION:Pittsburgh International Race Complex
WEBSITE:https://24hoursoflemons.com/race/?id=290
URL:https://24hoursoflemons.com/race/?id=290
CONTACT:John \" Jay \" Lamm jay@24hoursoflemons.com
ORGANIZER:24 Hours of Lemons
ATTACH;FMTTYPE="image/jpeg":https://storage.ning.com/topology/rest/1.0
 /file/get/8325782858?profile=original
ATTENDEE;ROLE=REQ-PARTICIPANT;PARTSTAT=ACCEPTED;RSVP=TRUE;CN="Car Show
 s Little Helper":https://northeastwheelsevents.com/profile/CarShowsLit
 tleHelper
END:VEVENT
END:VCALENDAR
