BEGIN:VCALENDAR
PRODID:NingEventWidget-v1
VERSION:2.0
METHOD:PUBLISH
BEGIN:VEVENT
UID:5167423:Event:331781
DTSTAMP:20260426T002615Z
SUMMARY:49th Annual Maine New York Small Gas Engine Show, Craft and Fl
 ea Market
DESCRIPTION:The Southern Tier Antique Gas and Steam Engine Association
  presents the 49th Annual Maine NY Small Gas Engine Show, Craft and Fl
 ea Market, Friday, August 23, 12noon-5pm and Saturday, August 24 2024,
  9am-5pm. Featured: Stover Engines and Case Tractors! \r\nBring your 
 engine (or engine’s), tractor, antique farm equipment, parts to sell
 , etc. Talk with old (and some young) friends.  Swap stories and “t
 all tales.”  Other activities: Kids tractor Pulls, Tractor Games, V
 intage Snowmobiles, Food, Silent Auctions, Flea Market, Crafts, Cake W
 alk, Garden Tractor Games ( non-modified), tractor parades. Show off y
 our engines and ENJOY!!  Coffee and donuts for our members and just a
  good time. Info.: Chris, President 607-372-2700, John, Vice President
  607-759-4998. https://www.facebook.com/photo.php?fbid=822118626680996
 &id=100066485995043&set=a.433352748890921/\r\n\r\nLocal museum open fo
 r touring. \n\nFor more information visit https://northeastwheelseven
 ts.com/events/the-southern-tier-antique-gas-and-steam-engine-associati
 on-show
DTSTART:20240823T130000Z
DTEND:20240824T210000Z
CATEGORIES:engineshow
LOCATION:Maine Park
WEBSITE:https://www.facebook.com/cokebear90
URL:https://www.facebook.com/cokebear90
CONTACT:607-372-2700
ORGANIZER:MNYSGE
ATTACH;FMTTYPE="image/jpeg":https://storage.ning.com/topology/rest/1.0
 /file/get/12772152652?profile=original
ATTENDEE;ROLE=REQ-PARTICIPANT;PARTSTAT=ACCEPTED;RSVP=TRUE;CN="William 
 Bruce":https://northeastwheelsevents.com/profile/WilliamBruce
END:VEVENT
END:VCALENDAR
