BEGIN:VCALENDAR
PRODID:NingEventWidget-v1
VERSION:2.0
METHOD:PUBLISH
BEGIN:VEVENT
UID:5167423:Event:140404
DTSTAMP:20260422T231516Z
SUMMARY:The Stanley Museum
DESCRIPTION:The Stanley Museum of Kingfield, ME is proud to present th
 e second 2 day seminar at the University of Maine at Farmington. There
  will be several classes or seminars offered each of the 2 days. The m
 ain topics will be on steam cars, but we will also offer a class on Ch
 ansonetta, the famous photographer, a sister of the Stanley twins. In 
 addition, there will be a class about the entrepreneurial Stanley fami
 ly of Maine.\n\nFor more information visit https://northeastwheelseven
 ts.com/events/the-stanley-museum
DTSTART:20170803T040000Z
DTEND:20170805T035900Z
CATEGORIES:seminar
LOCATION:University of Maine at Farmington
WEBSITE:
URL:
CONTACT:207-265-2729
ORGANIZER;CN="Debbie Smith":https://northeastwheelsevents.com/profile/
 DebbieSmith
ATTACH;FMTTYPE="image/jpeg":
ATTENDEE;ROLE=REQ-PARTICIPANT;PARTSTAT=ACCEPTED;RSVP=TRUE;CN="Debbie S
 mith":https://northeastwheelsevents.com/profile/DebbieSmith
END:VEVENT
END:VCALENDAR
