BEGIN:VCALENDAR
PRODID:NingEventWidget-v1
VERSION:2.0
METHOD:PUBLISH
BEGIN:VEVENT
UID:5167423:Event:344787
DTSTAMP:20260423T232328Z
SUMMARY:The Traffic Jam Car Show- Presented by the Shusters
DESCRIPTION:Join us for our Bi- annual Traffic Jam Car Show. All class
 ics, exotics, trucks, bikes and MORE are welcome.Live Music, Food Truc
 ks, Lots O' Burnouts, Trophies and MORE!Event Location:160 Sycamore Av
 eMarlton, NJ 08053* All burnouts to take place past gate, on property;
  not on public roadway.Questions?: Please email Laurie@shustersplumbi
 ng.com\n\nFor more information visit https://northeastwheelsevents.com
 /events/the-traffic-jam-car-show-presented-by-the-shusters
DTSTART:20251004T180000Z
DTEND:20251004T230000Z
CATEGORIES:carshow
LOCATION:Camp Fellowship
WEBSITE:https://allevents.in/west-berlin/the-traffic-jam-car-show-pres
 ented-by-the-shusters/200028866571745
URL:https://allevents.in/west-berlin/the-traffic-jam-car-show-presente
 d-by-the-shusters/200028866571745
CONTACT:856-912-1700
ORGANIZER:the Shusters
ATTACH;FMTTYPE="image/jpeg":https://storage.ning.com/topology/rest/1.0
 /file/get/13725668255?profile=original
ATTENDEE;ROLE=REQ-PARTICIPANT;PARTSTAT=ACCEPTED;RSVP=TRUE;CN="William 
 Bruce":https://northeastwheelsevents.com/profile/WilliamBruce
END:VEVENT
END:VCALENDAR
