BEGIN:VCALENDAR
PRODID:NingEventWidget-v1
VERSION:2.0
METHOD:PUBLISH
BEGIN:VEVENT
UID:5167423:Event:1088
DTSTAMP:20260424T003727Z
SUMMARY:The United States Senate has declared July 9, 2010, as Nationa
 l Collector Car Appreciation Day
DESCRIPTION:Are you ready to celebrate? The United States Senate has d
 eclared July 9, 2010, as National Collector Car Appreciation Day. Make
  sure you mark your calendars and find an event near you on North East
  Wheel Events\n\nFor more information visit https://northeastwheelseve
 nts.com/events/the-united-states-senate-has
DTSTART:20100709T040000Z
DTEND:20100710T035900Z
CATEGORIES:collector, car, appreciation, day
LOCATION:Make sure you mark your calendars and find an event near
WEBSITE:
URL:
CONTACT:
ORGANIZER;CN="Richard Scott":https://northeastwheelsevents.com/profile
 /RichardScott
ATTACH;FMTTYPE="image/jpeg":http://storage.ning.com/topology/rest/1.0/
 file/get/2284046990?profile=original
ATTENDEE;ROLE=REQ-PARTICIPANT;PARTSTAT=ACCEPTED;RSVP=TRUE;CN="Richard 
 Scott":https://northeastwheelsevents.com/profile/RichardScott
END:VEVENT
END:VCALENDAR
