BEGIN:VCALENDAR
PRODID:NingEventWidget-v1
VERSION:2.0
METHOD:PUBLISH
BEGIN:VEVENT
UID:5167423:Event:47499
DTSTAMP:20260425T185915Z
SUMMARY:The Wounded Turkey Classic and The Homeward Bound Grant Tours
DESCRIPTION:A Road Rally Built For AdventureInspired by the low buck r
 oad rallies that take place out west (Snowball Rally, California Melee
 ) the rally was put together to offer a fun event that offers plenty o
 f opportunity for the unexpected. With 2 years of successful runs priv
 ately, this year is open to anyone!The rally is a 2 day event that com
 bines the Wounded Turkey Rally and the Homeward Bound Rally for a week
 end that takes you 500 miles from southeast PA through the state to We
 llsboro then back again. The days are set up to split the driving to t
 he morning and afternoon with a stop at a restaurant about halfway thr
 ough. Overnight we will be camping at Stony Fork Creek Campground to r
 elax around a fire and get some sleep for the next days drive. The roa
 ds are mostly rural highways, some small back roads and gravel will be
  included. Pace of the event is designed to keep everyone together wit
 h simple directions that will be easy to follow, I don't want to get p
 eople lost out there. If you enjoy wandering flowy roads throughout t
 he forests and farms of PA, this is the rally to do it. Not recommende
 d for those that need the pampered life, but enjoyed by those that wan
 t an adventure.\n\nFor more information visit https://northeastwheelse
 vents.com/events/the-wounded-turkey-classic-and-the-homeward-bound-gra
 nt-tours
DTSTART:20140628T040000Z
DTEND:20140630T035900Z
CATEGORIES:road, "rally/grand", tour
LOCATION:Leaves the Quaktertown, PA area, overnight camping in Wellsbo
 ro, PA and returns to Bucks County the next day
WEBSITE:http://www.motorsportreg.com/events/wounded-turkey-classic-gra
 nd-tour-spinnerstown-hotel-scca-philadelphia-219914#.U5xGfvldUxF
URL:http://www.motorsportreg.com/events/wounded-turkey-classic-grand-t
 our-spinnerstown-hotel-scca-philadelphia-219914#.U5xGfvldUxF
CONTACT:
ORGANIZER:Philly SCCA
ATTACH;FMTTYPE="image/jpeg":http://storage.ning.com/topology/rest/1.0/
 file/get/2284062670?profile=original
ATTENDEE;ROLE=REQ-PARTICIPANT;PARTSTAT=ACCEPTED;RSVP=TRUE;CN="Jonathan
  Love":https://northeastwheelsevents.com/profile/JonathanLove
END:VEVENT
END:VCALENDAR
