BEGIN:VCALENDAR
PRODID:NingEventWidget-v1
VERSION:2.0
METHOD:PUBLISH
BEGIN:VEVENT
UID:5167423:Event:60355
DTSTAMP:20260423T135517Z
SUMMARY:This Christmastide
DESCRIPTION:Come enjoy the Hershey Community Chorus at the AACA Museum
 . This year’s concert will have a mixture of sacred Christmas music 
 along with secular selections performed acapella and accompanied by fl
 ute and harp. Two concerts will be held on December 7th with the first
  starting at 3:00 PM.  A second concert will be held at 7:30 PM with 
 an option of having a full holiday buffet dinner starting at 6:00 PM p
 rior to the concert. Admission to these concerts is $15.00 for adults
  and $8.00 for children ages 6 to 11. The dinner option can be added t
 o the evening performance by adding an additional $25.00 to the ticket
  price. A cash bar will be available. More information can be obtained
  by calling 439-6482 or emailing to info@HersheyCommunityChorus.org\n\
 nFor more information visit https://northeastwheelsevents.com/events/t
 his-christmastide
DTSTART:20141207T200000Z
DTEND:20141208T020000Z
CATEGORIES:seasonal
LOCATION:AACA Museum
WEBSITE:http://www.aacamuseum.org/christmastide-hershey-community-chor
 us/
URL:http://www.aacamuseum.org/christmastide-hershey-community-chorus/
CONTACT:717-566-7100
ORGANIZER;CN="AACA Museum":https://northeastwheelsevents.com/profile/A
 ACAMuseum553
ATTACH;FMTTYPE="image/jpeg":http://storage.ning.com/topology/rest/1.0/
 file/get/2284064075?profile=original
ATTENDEE;ROLE=REQ-PARTICIPANT;PARTSTAT=ACCEPTED;RSVP=TRUE;CN="AACA Mus
 eum":https://northeastwheelsevents.com/profile/AACAMuseum553
END:VEVENT
END:VCALENDAR
