BEGIN:VCALENDAR
PRODID:NingEventWidget-v1
VERSION:2.0
METHOD:PUBLISH
BEGIN:VEVENT
UID:5167423:Event:19712
DTSTAMP:20260422T061340Z
SUMMARY:This Day In History: Shelby wins 1965 LeMans
DESCRIPTION:1965 Shelby's Daytona Coupe wins the 1965 LeMans and captu
 res the World Manufacturer's Championship, beating out Ferrari.\n\nFor
  more information visit https://northeastwheelsevents.com/events/this-
 day-in-history-shelby-wins-1965-lemans
DTSTART:20130704T040000Z
DTEND:20130705T035900Z
CATEGORIES:historic, milestone
LOCATION:automotive milestones
WEBSITE:
URL:
CONTACT:
ORGANIZER;CN="Pamela Hirschhorn":https://northeastwheelsevents.com/pro
 file/PamelaHirschhorn
ATTACH;FMTTYPE="image/jpeg":http://storage.ning.com/topology/rest/1.0/
 file/get/2284050020?profile=original
ATTENDEE;ROLE=REQ-PARTICIPANT;PARTSTAT=ACCEPTED;RSVP=TRUE;CN="Pamela H
 irschhorn":https://northeastwheelsevents.com/profile/PamelaHirschhorn
END:VEVENT
END:VCALENDAR
