BEGIN:VCALENDAR
PRODID:NingEventWidget-v1
VERSION:2.0
METHOD:PUBLISH
BEGIN:VEVENT
UID:5167423:Event:245732
DTSTAMP:20260422T204054Z
SUMMARY:Thousand Trails Annual Car Show
DESCRIPTION:Our annual car show will be held Saturday June 15, 2019 wi
 th the rain date of June 22. Preregistration $15 and day of show $20. 
 Call 717-867-5515 to preregister and if you have any questions. There 
 will be door prizes and entertainment provided during the show. There 
 will also be food and drink available for purchase during the show. Al
 l proceeds benefit Ronald McDonald House. Preregistration includes one
  discounted breakfast ticket served 9 to 11 am. There will also be raf
 fles available to enter to raise even more funds.\n\nFor more informat
 ion visit https://northeastwheelsevents.com/events/thousand-trails-ann
 ual-car-show
DTSTART:20190615T150000Z
DTEND:20190615T190000Z
CATEGORIES:car, show, and, fundraiser
LOCATION:Thousand Trails Hershey in Lebanon, PA off of Rte. 322
WEBSITE:http://www.1000trails.com
URL:http://www.1000trails.com
CONTACT:717-867-5515
ORGANIZER:Ruth Trimble
ATTACH;FMTTYPE="image/jpeg":
ATTENDEE;ROLE=REQ-PARTICIPANT;PARTSTAT=ACCEPTED;RSVP=TRUE;CN="Blaine M
 cKivison":https://northeastwheelsevents.com/profile/BlaineMcKivison
ATTENDEE;ROLE=REQ-PARTICIPANT;PARTSTAT=ACCEPTED;RSVP=TRUE;CN="Todd Met
 z":https://northeastwheelsevents.com/profile/ToddMetz
END:VEVENT
END:VCALENDAR
