BEGIN:VCALENDAR
PRODID:NingEventWidget-v1
VERSION:2.0
METHOD:PUBLISH
BEGIN:VEVENT
UID:5167423:Event:202247
DTSTAMP:20260425T121451Z
SUMMARY:Throggs Neck Classic Car Cruise
DESCRIPTION:Please come and join us for our Fall event. Throggs Neck C
 lassic Car Cruise is the Biggest Cruise Night in NYC! We Arent just an
 other cruise night but an Event! And A great family oriented night out
 ! Tons of Classic Hot Rods, Muscle Cars, Race Cars, Stockers, Kustoms,
  Rat Rods, Trucks and Modern Muscle cars..... There is a 50/50, Giveaw
 ays, Great food and Drinks, Music and Yard games...... All American Ma
 de RWD Vehicles are welcome so please feel free to invite your friends
  and spread the word!We have already raised over $5000 Dollars for St 
 Jude's Childrens Research Hospital this year alone and need your help 
 to reach our goal of 10K The picturesque veiws of the NYC Skyline both
  the Throggs Neck and Whitestone Bridges are unmatched combined with p
 erfect October weather its by far on of the nicest cruise nights on th
 e East Coast! We have cars attend from all 5 Boro's, Long Island, New 
 Jersey, Connecticut, Pennsylvania, Rhode Island even as far North as W
 atertown NY!\n\nFor more information visit https://northeastwheelseven
 ts.com/events/throggs-neck-classic-car-cruise-1
DTSTART:20181004T213000Z
DTEND:20181005T013000Z
CATEGORIES:cruise, night, car, show
LOCATION:The Waterfront NYC
WEBSITE:https://www.facebook.com/events/1761102997341587/
URL:https://www.facebook.com/events/1761102997341587/
CONTACT:917-682-2262
ORGANIZER;CN="Nick Hooks":https://northeastwheelsevents.com/profile/Ni
 ckHooks
ATTACH;FMTTYPE="image/jpeg":http://storage.ning.com/topology/rest/1.0/
 file/get/2284104406?profile=original
ATTENDEE;ROLE=REQ-PARTICIPANT;PARTSTAT=ACCEPTED;RSVP=TRUE;CN="Nick Hoo
 ks":https://northeastwheelsevents.com/profile/NickHooks
END:VEVENT
END:VCALENDAR
