BEGIN:VCALENDAR
PRODID:NingEventWidget-v1
VERSION:2.0
METHOD:PUBLISH
BEGIN:VEVENT
UID:5167423:Event:261568
DTSTAMP:20260425T154330Z
SUMMARY:Throggs Neck Classic Car Cruise
DESCRIPTION:Throggs Neck Classic Car Cruise is the Biggest Cruise Nigh
 t in NYC! We Arent just another cruise night but an Event! And A great
  family oriented night out! Tons of Classic Hot Rods, Muscle Cars, Rac
 e Cars, Stockers, Kustoms, Rat Rods, Trucks and Modern Muscle cars....
 .\nLast year we had a personal best record of 513 cars with attendees 
 from all 5 Boro's, Westchester, Long Island both Nassau and Suffolk, S
 chenectady, Watertown, Orange County, Putnam County, New Jersey, Conne
 ticut, BOSTON MASS! Philly and other parts of PA even people from Cali
 fornia and ENGLAND!\nWe also raised almost $10,000 for St Jude Childre
 ns Research Hospital! We hope to top both of those this year!\nThere i
 s a 50/50, Giveaways, Great food and Drink special all night, Music an
 d Yard games!\nAll American Made RWD Vehicles are welcome so please in
 vite your friends Share our event and help us spread the word!\n\nFor 
 more information visit https://northeastwheelsevents.com/events/throgg
 s-neck-classic-car-cruise-2
DTSTART:20200528T210000Z
DTEND:20200529T010000Z
CATEGORIES:cruise, night
LOCATION:The Waterfront NYC Resturant @ Trump Links Ferry Point
WEBSITE:https://www.facebook.com/events/255411985441559/
URL:https://www.facebook.com/events/255411985441559/
CONTACT:
ORGANIZER;CN="Nick Hooks":https://northeastwheelsevents.com/profile/Ni
 ckHooks
ATTACH;FMTTYPE="image/jpeg":https://storage.ning.com/topology/rest/1.0
 /file/get/4439008780?profile=original
ATTENDEE;ROLE=REQ-PARTICIPANT;PARTSTAT=ACCEPTED;RSVP=TRUE;CN="Nick Hoo
 ks":https://northeastwheelsevents.com/profile/NickHooks
END:VEVENT
END:VCALENDAR
