BEGIN:VCALENDAR
PRODID:NingEventWidget-v1
VERSION:2.0
METHOD:PUBLISH
BEGIN:VEVENT
UID:5167423:Event:247174
DTSTAMP:20260422T223310Z
SUMMARY:Thunder on the River Car Show (6th year)
DESCRIPTION:Come take a walk down memory lane with vintage cars, great
  music, good friends, and great food in this collaborative effort of t
 he Columbia Lions Club and SVCC. Held on Locust Street in downtown Col
 umbia, this event features show awards, with numerous trophies to be a
 warded including Best of Show and People’s Choice. Oldies music will
  serve as a backdrop for a fun-filled day that runs from 10:00 am to 2
 :00 pm. Admission for spectators is free. Contact SVCC at 717-684-5249
  for more information\n\nFor more information visit https://northeastw
 heelsevents.com/events/thunder-on-the-river-car-show-6th-year
DTSTART:20190615T140000Z
DTEND:20190615T180000Z
CATEGORIES:car, show
LOCATION:Columbia, PA
WEBSITE:https://VisitSusquehannaValley.com
URL:https://VisitSusquehannaValley.com
CONTACT:17176845249
ORGANIZER:Susquehanna Chamber of Commerce &amp; Columbia Lions Club
ATTACH;FMTTYPE="image/jpeg":
ATTENDEE;ROLE=REQ-PARTICIPANT;PARTSTAT=ACCEPTED;RSVP=TRUE;CN="Kathleen
  Hohenadel":https://northeastwheelsevents.com/profile/KathleenHohenade
 l
END:VEVENT
END:VCALENDAR
