BEGIN:VCALENDAR
PRODID:NingEventWidget-v1
VERSION:2.0
METHOD:PUBLISH
BEGIN:VEVENT
UID:5167423:Event:298398
DTSTAMP:20260423T020614Z
SUMMARY:Thunder on the River car, truck and cycle show
DESCRIPTION:Come take a walk down memory lane with vintage cars, great
  music, good friends and great food. Held rain or shine. Always the 3r
 d Saturday in June.\n\nFor more information visit https://northeastwhe
 elsevents.com/events/thunder-on-the-river-car-truck-and-cycle-show
DTSTART:20220618T140000Z
DTEND:20220618T180000Z
CATEGORIES:car, show
LOCATION:Columbia, PA
WEBSITE:http://columbialions.org
URL:http://columbialions.org
CONTACT:(717) 715-3592
ORGANIZER;CN="Paul Resch":https://northeastwheelsevents.com/profile/Pa
 ulResch
ATTACH;FMTTYPE="image/jpeg":https://storage.ning.com/topology/rest/1.0
 /file/get/10159109698?profile=original
ATTENDEE;ROLE=REQ-PARTICIPANT;PARTSTAT=ACCEPTED;RSVP=TRUE;CN="Paul Res
 ch":https://northeastwheelsevents.com/profile/PaulResch
END:VEVENT
END:VCALENDAR
