BEGIN:VCALENDAR
PRODID:NingEventWidget-v1
VERSION:2.0
METHOD:PUBLISH
BEGIN:VEVENT
UID:5167423:Event:173086
DTSTAMP:20260424T070800Z
SUMMARY:Timonium Motorcycle Show
DESCRIPTION:See everything new the 2018 motorcycle industry has to off
 er.  Check out the newest models from the top foreign and domestic mo
 torcycle manufacturers, Custom & Antique Bike Competition, Aftermarket
  area with the latest products available for all makes of motorcycles,
  like Sena, Zox, Kuryakan, Mustang Seats and more! Expanded Travel, To
 uring & Adventure Area with world-famous adventure riders and touring 
 experts!  New for 2018...a museum of some of the rarest BMW motorcycl
 es and memorabilia covering 9 decades.  Meet well-known drag racers a
 nd see their hot bikes.  And so much more...Visit www.cycleshow.net f
 or more info, buy advance tickets (save $7 dollars) or to print out di
 scount coupons.  3 days, Friday, Februay 9 and Saturday, February 10,
  10am - 8pm and Sunday, February 11, 10am - 6pm.\n\nFor more informati
 on visit https://northeastwheelsevents.com/events/timonium-motorcycle-
 show-1
DTSTART:20180209T150000Z
DTEND:20180212T010000Z
CATEGORIES:motorcycle, show
LOCATION:Maryland State Fairgrounds
WEBSITE:http://www.cycleshow.net
URL:http://www.cycleshow.net
CONTACT:4105617323
ORGANIZER:Rich Kohles
ATTACH;FMTTYPE="image/jpeg":http://storage.ning.com/topology/rest/1.0/
 file/get/2284100899?profile=original
ATTENDEE;ROLE=REQ-PARTICIPANT;PARTSTAT=ACCEPTED;RSVP=TRUE;CN="Lisa Sha
 ckelford":https://northeastwheelsevents.com/profile/LisaShackelford
END:VEVENT
END:VCALENDAR
