BEGIN:VCALENDAR
PRODID:NingEventWidget-v1
VERSION:2.0
METHOD:PUBLISH
BEGIN:VEVENT
UID:5167423:Event:140105
DTSTAMP:20260423T190941Z
SUMMARY:Timonium Motorcycle Show
DESCRIPTION:Show attendees can experience the 'Fit and Feel' of all th
 e hottest NEW 2017 models from the world's top motorcycle manufacturer
 s, plus 100's of exhibits covering everything this year's motorcycle i
 ndustry has to offer. The Travel, Touring & Adventure Feature Area is 
 expanded this year and will feature a premiere group of world famous a
 dventure riders and touring experts. The Motorcycle Aftermarket 'New P
 roduct' Area showcases the latest products available for all makes & m
 odels of motorcycles, like Sena, ZOX, Vance & Hines and more! Check ou
 t cycleshow.net to find out more and to get $5.00 off coupons good on 
 regular adult admission. You can also purchase advanced tickets and sa
 ve $$! Friday and Saturday, February 10 & 11, 10am - 9pm and Sunday, F
 ebruary 12, 10am - 6pm. Friday, Feb. 10th U.S. Military and First Resp
 onders get in for only $5.00 with I.D.\n\nFor more information visit h
 ttps://northeastwheelsevents.com/events/timonium-motorcycle-show
DTSTART:20170210T150000Z
DTEND:20170212T230000Z
CATEGORIES:motorcycle, show
LOCATION:Maryland State Fairgrounds
WEBSITE:http://www.cycleshow.net
URL:http://www.cycleshow.net
CONTACT:410-561-7323
ORGANIZER:Rich Kohles
ATTACH;FMTTYPE="image/jpeg":http://storage.ning.com/topology/rest/1.0/
 file/get/2284092492?profile=original
ATTENDEE;ROLE=REQ-PARTICIPANT;PARTSTAT=ACCEPTED;RSVP=TRUE;CN="Lisa Sha
 ckelford":https://northeastwheelsevents.com/profile/LisaShackelford
END:VEVENT
END:VCALENDAR
