BEGIN:VCALENDAR
PRODID:NingEventWidget-v1
VERSION:2.0
METHOD:PUBLISH
BEGIN:VEVENT
UID:5167423:Event:321212
DTSTAMP:20260422T082926Z
SUMMARY:Tom Sarmento - The Man Behind The General Lee
DESCRIPTION:Meet Tom Sarmento best known as the mechanic who built and
  maintained the General Lee's and other stunt cars for most of the TV 
 series Dukes of Hazzard during the shows 7 season run from 1979 to 198
 5 and a stunt man for the Lee Majors series The Fall Guy. This event w
 ill be held during our military veterans car show fundraiser supportin
 g disabled veterans. Tom will be signing his book The Man Behind the G
 eneral and will talk to you about his time from being a mechanic to st
 unt coordination working for movie/ tv studios. Tours of our facility 
 will be given throughout the day. $10 charitable donation per vehicle.
 \n\nFor more information visit https://northeastwheelsevents.com/event
 s/tom-sarmento-the-man-behind-the-general-lee
DTSTART:20230917T130000Z
DTEND:20230917T190000Z
CATEGORIES:charity, car, show
LOCATION:High Octane Classics
WEBSITE:http://www.highoctaneclassics.com
URL:http://www.highoctaneclassics.com
CONTACT:508.859.4515
ORGANIZER:High Octane Classics
ATTACH;FMTTYPE="image/jpeg":https://storage.ning.com/topology/rest/1.0
 /file/get/12219832655?profile=original
ATTENDEE;ROLE=REQ-PARTICIPANT;PARTSTAT=ACCEPTED;RSVP=TRUE;CN="Gregg An
 derson":https://northeastwheelsevents.com/profile/GreggAnderson
END:VEVENT
END:VCALENDAR
