BEGIN:VCALENDAR
PRODID:NingEventWidget-v1
VERSION:2.0
METHOD:PUBLISH
BEGIN:VEVENT
UID:5167423:Event:142900
DTSTAMP:20260423T102707Z
SUMMARY:Top Bike; Street Fighter; Test & Tune
DESCRIPTION:Today, New England Dragway, still owned by many of the rac
 ers who built it along with a new crop of shareholders, is the only 1/
 4 mile drag strip in New England.  It is open four days a week from t
 he beginning of April through the end of October featuring everything 
 from grudge racing to world class events like the its annual NHRA New 
 England Nationals.\n\nFor more information visit https://northeastwhee
 lsevents.com/events/top-bike-street-fighter-test-tune
DTSTART:20170415T040000Z
DTEND:20170416T035900Z
CATEGORIES:race
LOCATION:New England Dragway
WEBSITE:http://www.newenglanddragway.com/
URL:http://www.newenglanddragway.com/
CONTACT:(603) 679-8001
ORGANIZER:
ATTACH;FMTTYPE="image/jpeg":http://storage.ning.com/topology/rest/1.0/
 file/get/2284094820?profile=original
ATTENDEE;ROLE=REQ-PARTICIPANT;PARTSTAT=ACCEPTED;RSVP=TRUE;CN="Christop
 her Gosney":https://northeastwheelsevents.com/profile/ChristopherGosne
 y
END:VEVENT
END:VCALENDAR
