BEGIN:VCALENDAR
PRODID:NingEventWidget-v1
VERSION:2.0
METHOD:PUBLISH
BEGIN:VEVENT
UID:5167423:Event:317345
DTSTAMP:20260422T121754Z
SUMMARY:Town of Elkton Classic Car & Motorcycle Cruise-In
DESCRIPTION:The Town is sponsoring an off-the-chart Cruise-In. Goodie 
 bags and dash plaques to the first 200 registered.  Touch-A-Truck loc
 ated across from Town Hall. Last Cruise-in we had over 200 classic car
  and motorcycles.  It's an event designed for the ENTIRE family and w
 ill feature music, food trucks, vendors and will even have a Medevac5 
 helicopter & a Top Gun vehicle . . . plus fun games for the kid.\n\nFo
 r more information visit https://northeastwheelsevents.com/events/town
 -of-elkton-classic-car-amp-motorcycle-cruise-in
DTSTART:20230916T170000Z
DTEND:20230916T200000Z
CATEGORIES:cruise-in, and, touch-a-truck
LOCATION:Elkton Town Hall
WEBSITE:
URL:
CONTACT:540-713-4062
ORGANIZER:Town of Elkton
ATTACH;FMTTYPE="image/jpeg":https://storage.ning.com/topology/rest/1.0
 /file/get/12150018688?profile=original
ATTENDEE;ROLE=REQ-PARTICIPANT;PARTSTAT=ACCEPTED;RSVP=TRUE;CN="Delores 
 Hammer":https://northeastwheelsevents.com/profile/DeloresHammer
END:VEVENT
END:VCALENDAR
