BEGIN:VCALENDAR
PRODID:NingEventWidget-v1
VERSION:2.0
METHOD:PUBLISH
BEGIN:VEVENT
UID:5167423:Event:130392
DTSTAMP:20260424T225304Z
SUMMARY:Town of Noth Hempstead Beach Feast
DESCRIPTION:Antique Car show held at Town of North Hempstead Beach Par
 k. Antique cars, classics, trucks, hot rods 25 years or older. Enterta
 inment, wine tasting, gourmet food. $10.00 per car\n\nFor more informa
 tion visit https://northeastwheelsevents.com/events/town-of-noth-hemps
 tead-beach-feast
DTSTART:20160917T040000Z
DTEND:20160918T035900Z
CATEGORIES:antique, car, show
LOCATION:Town of North Hempstead Beach Park
WEBSITE:
URL:
CONTACT:718-217-2220
ORGANIZER;CN="Paul Parnes":https://northeastwheelsevents.com/profile/P
 aulParnes
ATTACH;FMTTYPE="image/jpeg":
ATTENDEE;ROLE=REQ-PARTICIPANT;PARTSTAT=ACCEPTED;RSVP=TRUE;CN="Paul Par
 nes":https://northeastwheelsevents.com/profile/PaulParnes
END:VEVENT
END:VCALENDAR
