BEGIN:VCALENDAR
PRODID:NingEventWidget-v1
VERSION:2.0
METHOD:PUBLISH
BEGIN:VEVENT
UID:5167423:Event:61024
DTSTAMP:20260423T023427Z
SUMMARY:Toy's for Tot's Car Show
DESCRIPTION:cs78.jpg\n\nFor more information visit https://northeastwh
 eelsevents.com/events/toy-s-for-tot-s-car-show
DTSTART:20141116T230000Z
DTEND:20141117T000000Z
CATEGORIES:car, show
LOCATION:Applebees Voorhees NJ
WEBSITE:
URL:
CONTACT:Info call 856-417-2669
ORGANIZER;CN="Dan HotRod Garage":https://northeastwheelsevents.com/pro
 file/DanHotRodGarage
ATTACH;FMTTYPE="image/jpeg":http://storage.ning.com/topology/rest/1.0/
 file/get/2284064828?profile=original
ATTENDEE;ROLE=REQ-PARTICIPANT;PARTSTAT=ACCEPTED;RSVP=TRUE;CN="Dan HotR
 od Garage":https://northeastwheelsevents.com/profile/DanHotRodGarage
END:VEVENT
END:VCALENDAR
