BEGIN:VCALENDAR
PRODID:NingEventWidget-v1
VERSION:2.0
METHOD:PUBLISH
BEGIN:VEVENT
UID:5167423:Event:335101
DTSTAMP:20260423T051450Z
SUMMARY:Transporterfest VW Day
DESCRIPTION:\r\n\r\n\r\nOct 13, 2024, 9:30 AM – 3:30 PM\r\nLarz Ande
 rson Auto Museum, 15 Newton St, Brookline, MA 02445, USA\r\n\r\n\r\n\r
 \nThe Details\r\n\r\n\r\n\r\n\r\nThe “People’s Car” has attracte
 d the enthusiasm and affection of all types since the company first ca
 me to America. At VW Day, Hippie vans, Baja Bugs, tuner GTI’s, and m
 ore will take over the lawn in celebration of a car company that, perh
 aps more than any other, has allowed owners to express themselves.\r\n
 \r\nCar Registration Fees:\r\n$20 per car and includes one driver and 
 one passenger.\r\n\r\nAdmission Fees (Includes admission to event and 
 the Museum)\r\nAdults • $15 | Children 6-12 • $10 Students • $10
  | Seniors • $10\r\nActive Military (with ID) • $10 | Children und
 er 6, free Member • Free.\r\n\r\nONLINE REGISTRATION IS NOT AVAILABL
 E FOR THIS EVENT.\r\nYou may register your vehicle and pay admission f
 ees at the event.\r\n\r\n\r\n\r\n\n\nFor more information visit https:
 //northeastwheelsevents.com/events/transporterfest-vw-day
DTSTART:20241013T133000Z
DTEND:20241013T193000Z
CATEGORIES:carshow
LOCATION:Larz Anderson Auto Museum
WEBSITE:https://www.larzanderson.org/event-details/transporterfest-vw-
 day
URL:https://www.larzanderson.org/event-details/transporterfest-vw-day
CONTACT:(617) 522-6547
ORGANIZER:Larz Anderson Auto Museum
ATTACH;FMTTYPE="image/jpeg":https://storage.ning.com/topology/rest/1.0
 /file/get/12998380474?profile=original
ATTENDEE;ROLE=REQ-PARTICIPANT;PARTSTAT=ACCEPTED;RSVP=TRUE;CN="William 
 Bruce":https://northeastwheelsevents.com/profile/WilliamBruce
END:VEVENT
END:VCALENDAR
