BEGIN:VCALENDAR
PRODID:NingEventWidget-v1
VERSION:2.0
METHOD:PUBLISH
BEGIN:VEVENT
UID:5167423:Event:36985
DTSTAMP:20260425T090133Z
SUMMARY:TRI-COUNTY CRUISERS – 21st  Annual Car Show
DESCRIPTION:Show open to cars and trucks of all ages.\nOver 60 trophie
 s to be awarded by peer judging.\nVendors, 50’s DJ Music, Food and B
 everages, Door Prizes and 50/50.\nProceeds to benefit the Wayne Volunt
 eer Fire Company #4. Rain\nDate: June 29\nPre-registration $10 by June
  16, Day of Show $15. \n \nFor a show flyer, please send e-mail to: 
 solutions@wegmanassociates.com\n\nFor more information visit https://n
 ortheastwheelsevents.com/events/tri-county-cruisers-21st-annual-car-sh
 ow
DTSTART:20140622T130000Z
DTEND:20140622T200000Z
CATEGORIES:car, show
LOCATION:Wayne Township Municipal Parking Lot
WEBSITE:
URL:
CONTACT:973-882-0288
ORGANIZER:Tri-County Cruisers
ATTACH;FMTTYPE="image/jpeg":
ATTENDEE;ROLE=REQ-PARTICIPANT;PARTSTAT=ACCEPTED;RSVP=TRUE;CN="Christop
 her Wegman":https://northeastwheelsevents.com/profile/ChristopherWegma
 n
END:VEVENT
END:VCALENDAR
