BEGIN:VCALENDAR
PRODID:NingEventWidget-v1
VERSION:2.0
METHOD:PUBLISH
BEGIN:VEVENT
UID:5167423:Event:311607
DTSTAMP:20260422T084551Z
SUMMARY:TRI-COUNTY CRUISERS – 30th Annual Car Show
DESCRIPTION:Show open to cars and trucks of all ages.\nOver 60 trophie
 s to be awarded by peer judging.\nVendors, 50’s DJ Music, Food and B
 everages, Door Prizes and 50/50.\nProceeds to benefit the Wayne Volunt
 eer Fire Company #4.\nPre-registration $15 by June 18, Day of Show $20
 .\n(Rain Date: July 9)\n \nFor a show flyer, please send e-mail to: c
 wegman@wegmanassociates.com\nOr visit www.TriCountyCruisersNJ.com\n\nF
 or more information visit https://northeastwheelsevents.com/events/tri
 -county-cruisers-30th-annual-car-show
DTSTART:20230625T130000Z
DTEND:20230625T200000Z
CATEGORIES:car, show, -, fire, company, fundraiser
LOCATION:Wayne Township Municipal Parking Lot
WEBSITE:http://www.TriCountyCruisersNJ.com
URL:http://www.TriCountyCruisersNJ.com
CONTACT:973-882-0288
ORGANIZER;CN="Christopher Wegman":https://northeastwheelsevents.com/pr
 ofile/ChristopherWegman983
ATTACH;FMTTYPE="image/jpeg":https://storage.ning.com/topology/rest/1.0
 /file/get/10974000882?profile=original
ATTENDEE;ROLE=REQ-PARTICIPANT;PARTSTAT=ACCEPTED;RSVP=TRUE;CN="Christop
 her Wegman":https://northeastwheelsevents.com/profile/ChristopherWegma
 n983
END:VEVENT
END:VCALENDAR
