BEGIN:VCALENDAR
PRODID:NingEventWidget-v1
VERSION:2.0
METHOD:PUBLISH
BEGIN:VEVENT
UID:5167423:Event:240733
DTSTAMP:20260423T120608Z
SUMMARY:Tri-County Fair Classic and Custom Car Show, Rockaway NJ
DESCRIPTION:Come and enjoy a free car show along with some good ole’
  fashion 50’s music on Saturday, June 15 from 2 – 6pm, however fa
 ir hours are from 3-11pm. The car show will be hosted by Cops N Rodder
 s of Northern New Jersey!\n\n\n\n\n\n\n\nCAR SHOW OWNERS\n\nBring your
  entire family to the fair and show off your beautiful cars for a chan
 ce to win bragging rights and some pretty cool trophies. All cars will
  be parked on pavement. Awesome oldie’s provided by DJ Monteray Matt
 .\nTop 25 Show categories:\n\nBest in Show\nBest Paint\nBest Interior\
 nBest Engine\nPeople’s Choice\nTop 20 Winner\n\nTo register your car
  kindly fill out the registration form below. The registration fee per
  car is only $10.00 in advance or $15.00 on the day of the show.\n\n\n
 \n\n\n\n\n\n\n\n\n\n\n\n\nFor more information visit https://northeast
 wheelsevents.com/events/tri-county-fair-classic-and-custom-car-show-2
DTSTART:20190608T180000Z
DTEND:20190608T220000Z
CATEGORIES:county, fair, car, show
LOCATION:Christ Church
WEBSITE:http://tricountyfair.org/classic-custom-car-show/
URL:http://tricountyfair.org/classic-custom-car-show/
CONTACT:9737831010
ORGANIZER:Stephen Nickoley
ATTACH;FMTTYPE="image/jpeg":https://storage.ning.com/topology/rest/1.0
 /file/get/1516500094?profile=original
ATTENDEE;ROLE=REQ-PARTICIPANT;PARTSTAT=ACCEPTED;RSVP=TRUE;CN="Ray Vele
 z":https://northeastwheelsevents.com/profile/RayVelez
END:VEVENT
END:VCALENDAR
