BEGIN:VCALENDAR
PRODID:NingEventWidget-v1
VERSION:2.0
METHOD:PUBLISH
BEGIN:VEVENT
UID:5167423:Event:347977
DTSTAMP:20260424T175530Z
SUMMARY:Tri-State Corvette Assn at Peddler's Village, New Hope, PA
DESCRIPTION:Sunday, October 4, 2026, Tri-State Corvette Assn at Peddle
 r's Village, New Hope, PA. Registration is from 7:30am - 9:30am. Troph
 y presentation at the completion of judging. Early departures forfeit 
 trophies. Custom designed gift for the first 100 pre-registered partic
 ipants. Food & beer truck, music, 50/50 and charity baskets. Proceeds 
 benefit local charities. Bring an unwrapped gift for a child newborn t
 o 18 years of age for the Little Santa Big Shop 501(3)c to help underp
 rivileged kids. Bring the wives for a day of shopping while at the car
  show.\n\nFor more information visit https://northeastwheelsevents.com
 /events/tri-state-corvette-assn-at-peddler-s-village-new-hope-pa-1
DTSTART:20261004T113000Z
DTEND:20261004T190000Z
CATEGORIES:corvette, car, show
LOCATION:Peddler's Village
WEBSITE:http://tristatecorvetteassn.com
URL:http://tristatecorvetteassn.com
CONTACT:
ORGANIZER;CN="Barbara Pergine":https://northeastwheelsevents.com/profi
 le/BarbaraPergine
ATTACH;FMTTYPE="image/jpeg":
ATTENDEE;ROLE=REQ-PARTICIPANT;PARTSTAT=ACCEPTED;RSVP=TRUE;CN="Barbara 
 Pergine":https://northeastwheelsevents.com/profile/BarbaraPergine
END:VEVENT
END:VCALENDAR
