BEGIN:VCALENDAR
PRODID:NingEventWidget-v1
VERSION:2.0
METHOD:PUBLISH
BEGIN:VEVENT
UID:5167423:Event:64015
DTSTAMP:20260422T181229Z
SUMMARY:TRI-STATE MC motorcycle and Quad Ice Racing
DESCRIPTION:http://http://www.tristateclub.com/web_flyers/ice_flyer.pd
 f\n\nFor more information visit https://northeastwheelsevents.com/even
 ts/tri-state-mc-motorcycle-and-quad-ice-racing
DTSTART:20150117T170000Z
DTEND:20150118T220000Z
CATEGORIES:motorcycle, ice, races
LOCATION:Hurleyville NY
WEBSITE:https://www.google.com/maps/place/Hurleyville,+NY+12747/@41.73
 56454,-74.6743277,15z/data=!3m1!4b1!4m2!3m1!1s0x89dcb942dac6aafd:0x531
 19b2fbeeb11e6
URL:https://www.google.com/maps/place/Hurleyville,+NY+12747/@41.735645
 4,-74.6743277,15z/data=!3m1!4b1!4m2!3m1!1s0x89dcb942dac6aafd:0x53119b2
 fbeeb11e6
CONTACT:
ORGANIZER;CN="Tri-State MC Club":https://northeastwheelsevents.com/pro
 file/TriStateMCClub
ATTACH;FMTTYPE="image/jpeg":http://storage.ning.com/topology/rest/1.0/
 file/get/2284066041?profile=original
ATTENDEE;ROLE=REQ-PARTICIPANT;PARTSTAT=ACCEPTED;RSVP=TRUE;CN="Tri-Stat
 e MC Club":https://northeastwheelsevents.com/profile/TriStateMCClub
END:VEVENT
END:VCALENDAR
