BEGIN:VCALENDAR
PRODID:NingEventWidget-v1
VERSION:2.0
METHOD:PUBLISH
BEGIN:VEVENT
UID:5167423:Event:258303
DTSTAMP:20260425T184742Z
SUMMARY:Troy Town Cruisers 10th Anniversary Season
DESCRIPTION:Weekly cruise-in starting Tuesday May 26, 2020 through Tue
 sday September 30, 2020\n\nFor more information visit https://northeas
 twheelsevents.com/events/troy-town-cruisers-10th-anniversary-season
DTSTART:20200526T210000Z
DTEND:20200527T000000Z
CATEGORIES:weekly, cruise-in
LOCATION:First Citizens Community Bank
WEBSITE:
URL:
CONTACT:
ORGANIZER;CN="Jim Blackwell":https://northeastwheelsevents.com/profile
 /JimBlackwell
ATTACH;FMTTYPE="image/jpeg":
ATTENDEE;ROLE=REQ-PARTICIPANT;PARTSTAT=ACCEPTED;RSVP=TRUE;CN="Jim Blac
 kwell":https://northeastwheelsevents.com/profile/JimBlackwell
END:VEVENT
END:VCALENDAR
