BEGIN:VCALENDAR
PRODID:NingEventWidget-v1
VERSION:2.0
METHOD:PUBLISH
BEGIN:VEVENT
UID:5167423:Event:21257
DTSTAMP:20260424T235947Z
SUMMARY:Truck and Car show June 1st Liverpool Pa.
DESCRIPTION:Central Pennsylvania Diesel Institute is hosting a student
  judged truck and car show on Saturday June 1St 2013. Trophies will be
  awarded for best of show, Truck, Antique and Classic.time is from 9am
  to 4 pm cost is $12.00 before May 24 $15.00 after and the day of. \n
 \nFor more information visit https://northeastwheelsevents.com/events/
 truck-and-car-show-june-1st-liverpool-pa-1
DTSTART:20130601T040000Z
DTEND:20130602T035900Z
CATEGORIES:to, benefit, the, students, of, cpdi
LOCATION:The school
WEBSITE:http://www.dieselinstitute.org
URL:http://www.dieselinstitute.org
CONTACT:
ORGANIZER;CN="Alan Yoder":https://northeastwheelsevents.com/profile/Al
 anYoder
ATTACH;FMTTYPE="image/jpeg":http://storage.ning.com/topology/rest/1.0/
 file/get/2284050311?profile=original
ATTENDEE;ROLE=REQ-PARTICIPANT;PARTSTAT=ACCEPTED;RSVP=TRUE;CN="Alan Yod
 er":https://northeastwheelsevents.com/profile/AlanYoder
END:VEVENT
END:VCALENDAR
