BEGIN:VCALENDAR
PRODID:NingEventWidget-v1
VERSION:2.0
METHOD:PUBLISH
BEGIN:VEVENT
UID:5167423:Event:329964
DTSTAMP:20260423T085914Z
SUMMARY:Trunk or Treat
DESCRIPTION:Gather up your Ghosts & Goblins inside Museum for treats, 
 activities, scavenger hunt & model car show.\nAdults $16.00, Seniors(6
 5+) $13.00, Students(5-16) $10.00\nChildren 12 & under FREE\n\nFor mor
 e information visit https://northeastwheelsevents.com/events/trunk-or-
 treat-2
DTSTART:20241026T150000Z
DTEND:20241026T170000Z
CATEGORIES:halloween
LOCATION:AMERICA ON WHEELS MUSEUM
WEBSITE:http://WWW.AMERICAONWHEELS.ORG
URL:http://WWW.AMERICAONWHEELS.ORG
CONTACT:6104324200
ORGANIZER;CN="Linda Merkel":https://northeastwheelsevents.com/profile/
 LindaMerkel
ATTACH;FMTTYPE="image/jpeg":
ATTENDEE;ROLE=REQ-PARTICIPANT;PARTSTAT=ACCEPTED;RSVP=TRUE;CN="Linda Me
 rkel":https://northeastwheelsevents.com/profile/LindaMerkel
END:VEVENT
END:VCALENDAR
