BEGIN:VCALENDAR
PRODID:NingEventWidget-v1
VERSION:2.0
METHOD:PUBLISH
BEGIN:VEVENT
UID:5167423:Event:335274
DTSTAMP:20260422T100245Z
SUMMARY:2nd Annual Trunk or Treat 2024
DESCRIPTION:Join us on Monday, October 21st at Ken Pollock Ford, from 
 6PM to 8PM for a spook-tacular time! Our team of ghosts and goblins wi
 ll be hosting our 2nd Annual Trunk or Treat at the dealership with dec
 orated vehicles on our lot and plenty of treats. Come in costume and j
 oin in on the fun!  RSVP today! Bring your classic car, truck or bike!
    This is a free community event. Parking available in the gravel lo
 t behind the dealership. Ken Pollock Auto Group is not responsible for
  allergies due to candy ingredients.\n\nFor more information visit htt
 ps://northeastwheelsevents.com/events/trunk-or-treat-2024
DTSTART:20241021T220000Z
DTEND:20241022T000000Z
CATEGORIES:carshow, trunkortreat
LOCATION:Ken Pollock Ford
WEBSITE:https://allevents.in/berwick/trunk-or-treat-2024/2000269982529
 59
URL:https://allevents.in/berwick/trunk-or-treat-2024/200026998252959
CONTACT:855-973-8344
ORGANIZER:Ken Pollock Ford/Lincoln
ATTACH;FMTTYPE="image/jpeg":https://storage.ning.com/topology/rest/1.0
 /file/get/13012683278?profile=original
ATTENDEE;ROLE=REQ-PARTICIPANT;PARTSTAT=ACCEPTED;RSVP=TRUE;CN="William 
 Bruce":https://northeastwheelsevents.com/profile/WilliamBruce
END:VEVENT
END:VCALENDAR
