BEGIN:VCALENDAR
PRODID:NingEventWidget-v1
VERSION:2.0
METHOD:PUBLISH
BEGIN:VEVENT
UID:5167423:Event:335100
DTSTAMP:20260423T191953Z
SUMMARY:Trunk-or-Treat at Christ Community Church
DESCRIPTION:The 9th annual TRUNK-OR-TREAT at Christ Community Church i
 s scheduled to surprise and delight the community on Saturday, October
  26th*!Join us for this free event with decorated trunks, food trucks,
  and fun activities!Classic cars, trucks and bikes are welcome! Event
  will be held in the church parking lot, located at 1255 Federal Stree
 t in Belchertown. Parking available on-site!*In the case of inclement 
 weather, the rain date will be Sunday, October 27th.\n\nFor more infor
 mation visit https://northeastwheelsevents.com/events/trunk-or-treat-a
 t-christ-community-church
DTSTART:20241026T203000Z
DTEND:20241026T223000Z
CATEGORIES:trunkortreat, cruise-in
LOCATION:Christ Community Church
WEBSITE:https://allevents.in/amherst/trunk-or-treat-at-christ-communit
 y-church/200027136890827
URL:https://allevents.in/amherst/trunk-or-treat-at-christ-community-ch
 urch/200027136890827
CONTACT:413-253-0292
ORGANIZER:Christ Community Church
ATTACH;FMTTYPE="image/jpeg":https://storage.ning.com/topology/rest/1.0
 /file/get/13019685075?profile=original
ATTENDEE;ROLE=REQ-PARTICIPANT;PARTSTAT=ACCEPTED;RSVP=TRUE;CN="William 
 Bruce":https://northeastwheelsevents.com/profile/WilliamBruce
END:VEVENT
END:VCALENDAR
