BEGIN:VCALENDAR
PRODID:NingEventWidget-v1
VERSION:2.0
METHOD:PUBLISH
BEGIN:VEVENT
UID:5167423:Event:333651
DTSTAMP:20260423T003144Z
SUMMARY:Trunk or Treat Car Show
DESCRIPTION:All makes and models welcome! Please join Portuguese holy 
 ghost society and team defiant decibels hosting a trunk or treat car s
 how , there will be trophy's, cars chosen by the children, feel free t
 o decorate your trunks and hand out candy , there will also be a dj , 
 it's going to be a good time. Friday, October 25 2024, 7:00pm- 9:00pm.
  \n\nFor more information visit https://northeastwheelsevents.com/eve
 nts/trunk-or-treat-car-show
DTSTART:20241025T230000Z
DTEND:20241026T010000Z
CATEGORIES:cruisein, trunkortreat
LOCATION:Holy Ghost Sociery of West Warwick
WEBSITE:https://facebook.com/events/s/trunk-or-treat-car-show/48597221
 0890308/
URL:https://facebook.com/events/s/trunk-or-treat-car-show/485972210890
 308/
CONTACT:401-821-9841
ORGANIZER:Holy Ghost Sociery of West Warwick
ATTACH;FMTTYPE="image/jpeg":https://storage.ning.com/topology/rest/1.0
 /file/get/12907088668?profile=original
ATTENDEE;ROLE=REQ-PARTICIPANT;PARTSTAT=ACCEPTED;RSVP=TRUE;CN="William 
 Bruce":https://northeastwheelsevents.com/profile/WilliamBruce
END:VEVENT
END:VCALENDAR
