BEGIN:VCALENDAR
PRODID:NingEventWidget-v1
VERSION:2.0
METHOD:PUBLISH
BEGIN:VEVENT
UID:5167423:Event:202543
DTSTAMP:20260425T175535Z
SUMMARY:Trunk or Treat
DESCRIPTION:Trunk or Treat!  Open to all makes and models of vehicles
 ! Thursday October 25th, 5:30-8:30 pm, food trucks, 50/50 raffle & doo
 r prizes!  Come out for a fun family and community event!  Ceramic P
 ro Auto Spa, 1273 Manheim Pike, Lancaster, Pa 17601\n \n* Rain date 1
 0/26 *\n\n\nFor more information visit https://northeastwheelsevents.c
 om/events/trunk-or-treat
DTSTART:20181025T213000Z
DTEND:20181026T003000Z
CATEGORIES:community, event
LOCATION:Ceramic Pro Auto Spa
WEBSITE:
URL:
CONTACT:717-621-2132
ORGANIZER:Susquehanna Valley Camaro Club/Ceramic Pro
ATTACH;FMTTYPE="image/jpeg":http://storage.ning.com/topology/rest/1.0/
 file/get/2284110848?profile=original
ATTENDEE;ROLE=REQ-PARTICIPANT;PARTSTAT=ACCEPTED;RSVP=TRUE;CN="Kimberly
  Walters":https://northeastwheelsevents.com/profile/KimberlyWalters
END:VEVENT
END:VCALENDAR
