BEGIN:VCALENDAR
PRODID:NingEventWidget-v1
VERSION:2.0
METHOD:PUBLISH
BEGIN:VEVENT
UID:5167423:Event:238879
DTSTAMP:20260422T150031Z
SUMMARY:Tucker: The 50 Production Cars
DESCRIPTION:The mystique surrounding Preston Tucker, the Tucker Corpor
 ation and Tucker automobiles is the fascination of many visitors.Â Â Â
   Tucker:Â  The 50 Production Cars is the 2nd gallery talk being offer
 ed on the topic of Tucker this year.Â Â  Historians Mark Liberman and 
 John Tucker, Jr. will be talking through the 50 production Tucker auto
 mobiles.Â  The presentation will run from 2:00 PM â€“ 3:00 PM in ourÂ 
 Regions & Chapters roomÂ followed by aÂ question and answer opportunit
 y from 3:00 â€“ 3:30 PM.\nThe AACA Museum, Inc. is home to the worldâ€
 ™s largest collection of Tucker automobiles and artifacts on permanent
  exhibit for the public to enjoy.Â Â  There are three Tucker automobil
 es as part of the collection â€“ #1001 (the first production Tucker), 
 #1022, and #1026 (the only surviving Tucker with automatic transmissio
 n) from the Cammack Collection. Â  There is also a Tucker movie car fr
 om the Tucker Automobile Club of America Collection which also resides
  here at the AACA Museum, Inc. along with hundreds of other artifacts 
 on view. Â  If you love Tucker or just want to learn more about this s
 tory, this is the place.\n\nThis program will be FREE to allÂ Tucker A
 utomobile Club of America (TACA) Members.\nMuseum Members without the 
 Tucker upgrade will be $5.00 per ticket.Â  Any AACA Museum Membership 
 can now be upgraded to include Tucker Club benefits to special program
 s,Â Tucker TopicsÂ Newsletter, and access to the online archives for j
 ust $30 per year.\nNon-Members will be $17.50 for Adults | $16.50 for 
 Seniors (61 & Older) | $14.50 for Children (4-12) â€“ these prices inc
 lude AACA Museum, Inc admission for the day in addition to the program
 .\nThe program is limited to 50 participants, and advance registration
  is required to attend.Â  The previous program SOLD OUT, so we strongl
 y encourage you to register quickly.\n\nFor more information visit htt
 ps://northeastwheelsevents.com/events/tucker-the-50-production-cars
DTSTART:20190511T180000Z
DTEND:20190511T193000Z
CATEGORIES:tucker, talk
LOCATION:AACA Museum
WEBSITE:http://www.aacamuseum.org
URL:http://www.aacamuseum.org
CONTACT:717 566-7100
ORGANIZER:AACA Museum
ATTACH;FMTTYPE="image/jpeg":https://storage.ning.com/topology/rest/1.0
 /file/get/1246414522?profile=original
ATTENDEE;ROLE=REQ-PARTICIPANT;PARTSTAT=ACCEPTED;RSVP=TRUE;CN="Car Show
 s Little Helper":https://northeastwheelsevents.com/profile/CarShowsLit
 tleHelper
END:VEVENT
END:VCALENDAR
