BEGIN:VCALENDAR
PRODID:NingEventWidget-v1
VERSION:2.0
METHOD:PUBLISH
BEGIN:VEVENT
UID:5167423:Event:24138
DTSTAMP:20260422T141650Z
SUMMARY:Tuesday Night Cruise at Resorts World Casino
DESCRIPTION:\nEast Coast Car Association Inc Presents the Tuesday Nigh
 t Cruise at Resorts World Casino VIP Parking Lot Every Tuesday from Ma
 y 14th to Nov 12th 2013 5 PM to 9 PM. .Enter from the Rockaway Blvd an
 d 109th st entrance. $3.00 Donation, 50/50 Trophies. This is all for S
 t Mary's Children's Hospital in Bayside Queens.www.eccatoysfortots.org
  or on face book at ECCA toy4totsRules.Do not Speed in or out of the 
 lot.Do not Peel out when entering or leaving.Do not Rev your engine on
 ce you are in the lot.No Radio playing during the car showDo Not Litte
 r, clean your spot before you leaveNo Alcohol or Drugs will be Permitt
 ed in the lot.No Pets will be allowed in the lot.One Car per Spot only
 .We promote Family FUN Time \"Please reframe from Cursing\".Once the C
 ar Show is over, 30 minutes later everyone will leave the lot.\n \n\n
 For more information visit https://northeastwheelsevents.com/events/tu
 esday-night-cruise-at-resorts-world-casino
DTSTART:20130627T220000Z
DTEND:20130628T010000Z
CATEGORIES:cruise
LOCATION:Location: Resorts World Casino NYC  Ozone Park NY
WEBSITE:http://eccatoysfortots.org
URL:http://eccatoysfortots.org
CONTACT:917-682-5362
ORGANIZER:East Coast Car Assicoation Inc
ATTACH;FMTTYPE="image/jpeg":http://storage.ning.com/topology/rest/1.0/
 file/get/2284051331?profile=original
ATTENDEE;ROLE=REQ-PARTICIPANT;PARTSTAT=ACCEPTED;RSVP=TRUE;CN="Pamela H
 irschhorn":https://northeastwheelsevents.com/profile/PamelaHirschhorn
END:VEVENT
END:VCALENDAR
