BEGIN:VCALENDAR
PRODID:NingEventWidget-v1
VERSION:2.0
METHOD:PUBLISH
BEGIN:VEVENT
UID:5167423:Event:143331
DTSTAMP:20260422T213903Z
SUMMARY:Tullytown Fire Company Car Show
DESCRIPTION:food, music, dash plaques to first 75 cars Lower end of Ho
 me Depot parking lot $15 registration rain date next day\n\nFor more i
 nformation visit https://northeastwheelsevents.com/events/tullytown-fi
 re-company-car-show
DTSTART:20170826T130000Z
DTEND:20170826T180000Z
CATEGORIES:car, show
LOCATION:Home Depot
WEBSITE:http://delawarevalleyroadrunners
URL:http://delawarevalleyroadrunners
CONTACT:267-228-3786
ORGANIZER:Shelene
ATTACH;FMTTYPE="image/jpeg":
ATTENDEE;ROLE=REQ-PARTICIPANT;PARTSTAT=ACCEPTED;RSVP=TRUE;CN="Len Prib
 ish":https://northeastwheelsevents.com/profile/LenPribish
END:VEVENT
END:VCALENDAR
