BEGIN:VCALENDAR
PRODID:NingEventWidget-v1
VERSION:2.0
METHOD:PUBLISH
BEGIN:VEVENT
UID:5167423:Event:48191
DTSTAMP:20260425T071530Z
SUMMARY:Tuner Car Show
DESCRIPTION:This car show is in honor of Colden Malinowski who lost hi
 s life to Meningitis at the age of 10.  His brother Chris has a Tuner
  Car and is using his car and this event to raise awareness and monies
  for the Meningitis Foundation.\n\nFor more information visit https://
 northeastwheelsevents.com/events/tuner-car-show
DTSTART:20140621T150000Z
DTEND:20140621T200000Z
CATEGORIES:fund, raiser, meningitis, association
LOCATION:New Hanover United Methodist Church
WEBSITE:http://www.newhanoverumc.org
URL:http://www.newhanoverumc.org
CONTACT:610-323-2353
ORGANIZER:Gil Vining
ATTACH;FMTTYPE="image/jpeg":
ATTENDEE;ROLE=REQ-PARTICIPANT;PARTSTAT=ACCEPTED;RSVP=TRUE;CN="Gilbert 
 Vining":https://northeastwheelsevents.com/profile/GilbertVining
END:VEVENT
END:VCALENDAR
